2.438400
0.000000
0.000000
-2.438400
245611.443568
4529791.686017
