2.438400
0.000000
0.000000
-2.438400
309196.601946
4541759.269347
