2.438400
0.000000
0.000000
-2.438400
276200.879827
4487131.950008
