2.438400
0.000000
0.000000
-2.438400
285675.728551
4445251.100838
