2.438400
0.000000
0.000000
-2.438400
297225.639306
4486573.472933
