2.438400
0.000000
0.000000
-2.438400
264705.196193
4459736.518815
