25.400000
0
0
-25.400000
409639.097847
4879534.658092
