2.438400000000
0.000000000000
0.000000000000
-2.438400000000
373195.496254104950
4568158.968202964400
