2.438400000000
0.000000000000
0.000000000000
-2.438400000000
353325.285113720510
4624064.498343627900
