2.438400000000
0.000000000000
0.000000000000
-2.438400000000
353046.709849007600
4610185.177045561400
