2.438400000000
0.000000000000
0.000000000000
-2.438400000000
405043.023178839300
4595436.743381117500
