2.438400000000
0.000000000000
0.000000000000
-2.438400000000
405586.963193782720
4637068.328252882700
