2.438400000000
0.000000000000
0.000000000000
-2.438400000000
363741.810173781650
4623859.751354877800
