2.438400000000
0.000000000000
0.000000000000
-2.438400000000
331209.911297059090
4569008.775855664200
