2.438400000000
0.000000000000
0.000000000000
-2.438400000000
384445.150313521850
4609462.112421115900
