2.438400000000
0.000000000000
0.000000000000
-2.438400000000
384573.495592671560
4623494.220101220500
