2.438400000000
0.000000000000
0.000000000000
-2.438400000000
404864.285601579700
4581557.248595015100
