2.438400000000
0.000000000000
0.000000000000
-2.438400000000
342608.568225237480
4610406.428907361800
