2.438400000000
0.000000000000
0.000000000000
-2.438400000000
363217.571921836410
4596106.397647025100
