2.438400000000
0.000000000000
0.000000000000
-2.438400000000
352762.157146737560
4596310.828772536500
