2.438400000000
0.000000000000
0.000000000000
-2.438400000000
332493.217337598850
4624520.464515355400
