2.438400000000
0.000000000000
0.000000000000
-2.438400000000
289592.627201831720
4583979.523106810600
