2.438400000000
0.000000000000
0.000000000000
-2.438400000000
289993.781819368480
4597858.608261227600
