2.438400000000
0.000000000000
0.000000000000
-2.438400000000
260009.976056251380
4640473.204651258000
