2.438400000000
0.000000000000
0.000000000000
-2.438400000000
320685.423662622750
4569258.705790481500
