2.438400000000
0.000000000000
0.000000000000
-2.438400000000
260474.289729919340
4654353.652485429300
