2.438400000000
0.000000000000
0.000000000000
-2.438400000000
269964.456035510810
4626251.135828942100
