2.438400000000
0.000000000000
0.000000000000
-2.438400000000
249613.174120064130
4640829.809925857900
