2.438400000000
0.000000000000
0.000000000000
-2.438400000000
299314.002132388240
4555925.659896969800
