2.438400000000
0.000000000000
0.000000000000
-2.438400000000
250100.100772942820
4654709.276574628400
