2.438400000000
0.000000000000
0.000000000000
-2.438400000000
560362.571647014818
4761747.187096023932
