2.438400000000
0.000000000000
0.000000000000
-2.438400000000
447869.321949767589
4719920.522370719351
