2.438400000000
0.000000000000
0.000000000000
-2.438400000000
478809.428131270048
4761399.607624274679
