2.438400000000
0.000000000000
0.000000000000
-2.438400000000
499235.017050242866
4678094.096538275480
