2.438400000000
0.000000000000
0.000000000000
-2.438400000000
499236.065867320693
4719733.520559523255
