2.438400000000
0.000000000000
0.000000000000
-2.438400000000
529861.475050855195
4747613.200461659580
