2.438400000000
0.000000000000
0.000000000000
-2.438400000000
499235.021945135843
4761374.980554839596
