2.438400000000
0.000000000000
0.000000000000
-2.438400000000
499235.637685738795
4747494.762531232089
