2.438400000000
0.000000000000
0.000000000000
-2.438400000000
509548.126699165441
4678119.779257387854
