2.438400000000
0.000000000000
0.000000000000
-2.438400000000
540233.917785073281
4719920.350316516124
