2.438400000000
0.000000000000
0.000000000000
-2.438400000000
499235.141451735049
4705854.528416375630
