2.438400000000
0.000000000000
0.000000000000
-2.438400000000
499235.816143579024
4691974.222672319971
