2.438400000000
0.000000000000
0.000000000000
-2.438400000000
550688.507491710945
4692244.965770123526
