2.438400000000
0.000000000000
0.000000000000
-2.438400000000
530230.713081210968
4664332.524800143205
