2.438400000000
0.000000000000
0.000000000000
-2.438400000000
550276.509558399557
4747767.609835390002
