2.438400000000
0.000000000000
0.000000000000
-2.438400000000
561223.621232592035
4664585.840165278874
