2.438400000000
0.000000000000
0.000000000000
-2.438400000000
570693.340195729630
4747981.578414271586
