2.438400000000
0.000000000000
0.000000000000
-2.438400000000
529987.780151311308
4719852.606920407154
