2.438400000000
0.000000000000
0.000000000000
-2.438400000000
560979.879523653886
4692344.326209119521
