2.438400000000
0.000000000000
0.000000000000
-2.438400000000
530107.824753045803
4692092.407753159292
